BEGIN:VCALENDAR
VERSION:2.0
PRODID:-//Nuzzles UK - ECPv6.15.20//NONSGML v1.0//EN
CALSCALE:GREGORIAN
METHOD:PUBLISH
X-ORIGINAL-URL:https://nuzzles.uk
X-WR-CALDESC:Events for Nuzzles UK
REFRESH-INTERVAL;VALUE=DURATION:PT1H
X-Robots-Tag:noindex
X-PUBLISHED-TTL:PT1H
BEGIN:VTIMEZONE
TZID:Europe/London
BEGIN:DAYLIGHT
TZOFFSETFROM:+0000
TZOFFSETTO:+0100
TZNAME:BST
DTSTART:20240331T010000
END:DAYLIGHT
BEGIN:STANDARD
TZOFFSETFROM:+0100
TZOFFSETTO:+0000
TZNAME:GMT
DTSTART:20241027T010000
END:STANDARD
BEGIN:DAYLIGHT
TZOFFSETFROM:+0000
TZOFFSETTO:+0100
TZNAME:BST
DTSTART:20250330T010000
END:DAYLIGHT
BEGIN:STANDARD
TZOFFSETFROM:+0100
TZOFFSETTO:+0000
TZNAME:GMT
DTSTART:20251026T010000
END:STANDARD
BEGIN:DAYLIGHT
TZOFFSETFROM:+0000
TZOFFSETTO:+0100
TZNAME:BST
DTSTART:20260329T010000
END:DAYLIGHT
BEGIN:STANDARD
TZOFFSETFROM:+0100
TZOFFSETTO:+0000
TZNAME:GMT
DTSTART:20261025T010000
END:STANDARD
END:VTIMEZONE
BEGIN:VEVENT
DTSTART;VALUE=DATE:20250716
DTEND;VALUE=DATE:20250722
DTSTAMP:20260425T044046
CREATED:20250627T142152Z
LAST-MODIFIED:20250717T160530Z
UID:4800-1752624000-1753142399@nuzzles.uk
SUMMARY:NuzzFest 2025 Staff and Acts
DESCRIPTION:*This is for staff and act tracking only *
URL:https://nuzzles.uk/event/nuzzfest-2025-staff-and-acts/
LOCATION:The Farm – Sherfield English\, Romsey\, Hampshire\, SO51 6FG\, United Kingdom
END:VEVENT
BEGIN:VEVENT
DTSTART;TZID=Europe/London:20250718T120000
DTEND;TZID=Europe/London:20250720T180000
DTSTAMP:20260425T044046
CREATED:20241214T131838Z
LAST-MODIFIED:20250714T120517Z
UID:2319-1752840000-1753034400@nuzzles.uk
SUMMARY:NuzzFest 2025
DESCRIPTION:Join us in July for a long weekend of woodland camping in Hampshire!\nTicket sales have now closed – see you there! \nWe’ve secured an entire woodland campsite for Nuzzles\, to put on a fun socialising weekend – any of this take your fancy? \n– Fun and games in our entertainment marquees\n– Bar open Friday and Saturday night*\n– Drinks and snacks available all day**\n– Saturday night drag show with The Haus of Glitch\n– Space for all the pup play you can imagine!\n– Photo opportunities across the site\n– Hoof It! pony play is joining the pups camping too! \nHow about the facilities?\n– Acres of scenic woodland\n– Catered ticket options (breakfast\, lunch and dinner)\n– Pitches for tents and motorhomes\n– Pitches with electric hookup^\n– Premium pre-setup tent ticket options\n– On site toilets and shower\n– Our own entertainment marquee with seating\n– Free WiFi\n– Free charging for devices available\n– Washing up area\n– Close to local town\n– Arranged train station pickups \nAnd a load more in the works! Questions? We’ve got some FAQs here – and if there is anything else\, drop us an email or drop in to the Telegram group! \nFor those looking to go with the catered ticket option – the full menu options can be seen by checking out the tickets below! \n*Drinks at the bar will have a cost payable at the time of purchase\, on the day.\n**Cost payable at the time of purchase\, on the day.  (drinking water tap on site\, selected squash for tap water\, tea & coffee will be available for free).\n^Pitches with electric hook up are limited and have an extra cost – more information on this add on and the additional price can be found below.\n\nAdd-ons and upgrades!\nThis year\, we have some extra options you can pick and choose from to add either for yourself or for others staying with you. These can be found on the webstore and can be purchased alongside your tickets\, or later if you fancy an upgrade to your weekend after all! Careful you don’t miss out though – some of these have limited availability. \nCheck them out here!  \n\nPlease make sure you bring ID with you on the day! No ID – no entry\n(click here for full details on whats approved ID)\nTicket names must match your ID.
URL:https://nuzzles.uk/event/nuzzfest-2025/
LOCATION:The Farm – Sherfield English\, Romsey\, Hampshire\, SO51 6FG\, United Kingdom
ATTACH;FMTTYPE=image/jpeg:https://nuzzles.uk/wp-content/uploads/2024/12/NuzzFest2025-launch-poster-2-1080-scaled.jpg
END:VEVENT
END:VCALENDAR