BEGIN:VCALENDAR
VERSION:2.0
PRODID:-//Nuzzles UK - ECPv6.15.20//NONSGML v1.0//EN
CALSCALE:GREGORIAN
METHOD:PUBLISH
X-ORIGINAL-URL:https://nuzzles.uk
X-WR-CALDESC:Events for Nuzzles UK
REFRESH-INTERVAL;VALUE=DURATION:PT1H
X-Robots-Tag:noindex
X-PUBLISHED-TTL:PT1H
BEGIN:VTIMEZONE
TZID:Europe/London
BEGIN:DAYLIGHT
TZOFFSETFROM:+0000
TZOFFSETTO:+0100
TZNAME:BST
DTSTART:20250330T010000
END:DAYLIGHT
BEGIN:STANDARD
TZOFFSETFROM:+0100
TZOFFSETTO:+0000
TZNAME:GMT
DTSTART:20251026T010000
END:STANDARD
BEGIN:DAYLIGHT
TZOFFSETFROM:+0000
TZOFFSETTO:+0100
TZNAME:BST
DTSTART:20260329T010000
END:DAYLIGHT
BEGIN:STANDARD
TZOFFSETFROM:+0100
TZOFFSETTO:+0000
TZNAME:GMT
DTSTART:20261025T010000
END:STANDARD
BEGIN:DAYLIGHT
TZOFFSETFROM:+0000
TZOFFSETTO:+0100
TZNAME:BST
DTSTART:20270328T010000
END:DAYLIGHT
BEGIN:STANDARD
TZOFFSETFROM:+0100
TZOFFSETTO:+0000
TZNAME:GMT
DTSTART:20271031T010000
END:STANDARD
END:VTIMEZONE
BEGIN:VEVENT
DTSTART;TZID=Europe/London:20260620T120000
DTEND;TZID=Europe/London:20260620T170000
DTSTAMP:20260424T173136
CREATED:20260304T131652Z
LAST-MODIFIED:20260304T132004Z
UID:7553-1781956800-1781974800@nuzzles.uk
SUMMARY:Nuzzles Social - June 2026
DESCRIPTION:Change of Venue!!!! (this event only) \nCome and join us this event at The Shooting Star (The Hobbit’s sister venue). Next month we have NuzzFest\, but we will be returning back to The Hobbit Pub for August’s event. \nThe doors open to Nuzzles at midday until 5PM. After that time – the venue is open to the general public and you are welcome to stay for as long as you like in your gear! \nThe Shooting Star is a safe place for all and we’re thrilled to be able to be able to work with the management there to bring you this event. \nPlease make sure you bring ID with you on the day! No ID – no entry. Ticket names must match your ID. \nNo outside food or drink – the food & cocktails at The Shooting Star are awesome.  \nSee FAQs for venue accessibility for those with mobility needs. \nCode of Conduct
URL:https://nuzzles.uk/event/nuzzles-social-june-2026/
LOCATION:The Shooting Star\, 40-42 Bevois Valley Road\, Southampton\, Hampshire\, SO14 0JR\, United Kingdom
ATTACH;FMTTYPE=image/png:https://nuzzles.uk/wp-content/uploads/2026/03/shooting_star_black_transparent.png
END:VEVENT
END:VCALENDAR